BEGIN:VCALENDAR
VERSION:2.0
CALSCALE:GREGORIAN
PRODID:-//Diputació de Barcelona//DibaCMS//EN
BEGIN:VEVENT
UID:1459
DTSTAMP:20260422T132600
DTSTART:20171217T180000
DTEND:20171217T200000
SUMMARY:Pessebre vivent 2017
LOCATION:
METHOD:PUBLISH
X-WR-CALNAME:st.fe@santafepenedes.cat
X-WR-TIMEZONE:Europe/Madrid
DESCRIPTION:Únic dia per a visitar el Pessebre vivent que organitza l'Ajuntament de Santa Fe del Penedès i l'Esplai de la Gent Gran, amb la col·laboració de veïns i veïnes del municipi i els Diables infantils "Els Calderots"

URI:https://www.santafepenedes.cat/actualitat/agenda/pessebre-vivent-2017.html
CLASS:PUBLIC
END:VEVENT
END:VCALENDAR
